BEGIN:VCALENDAR
VERSION:2.0
PRODID:-// - ECPv6.3.5//NONSGML v1.0//EN
CALSCALE:GREGORIAN
METHOD:PUBLISH
X-ORIGINAL-URL:https://kunstwerf.com
X-WR-CALDESC:Evenementen voor 
REFRESH-INTERVAL;VALUE=DURATION:PT1H
X-Robots-Tag:noindex
X-PUBLISHED-TTL:PT1H
BEGIN:VTIMEZONE
TZID:UTC
BEGIN:STANDARD
TZOFFSETFROM:+0000
TZOFFSETTO:+0000
TZNAME:UTC
DTSTART:20240101T000000
END:STANDARD
END:VTIMEZONE
BEGIN:VEVENT
DTSTART;TZID=UTC:20240601T130000
DTEND;TZID=UTC:20240601T160000
DTSTAMP:20260420T072336
CREATED:20240307T134457Z
LAST-MODIFIED:20240529T110953Z
UID:40-1717246800-1717257600@kunstwerf.com
SUMMARY:Bloeizonemarkt
DESCRIPTION:Wij zijn op zaterdagniddag 1 juni met een kraam aanwezig op de Bloeizonemarkt in Appelscha. \nOp deze markt laat een groot aantal verenigingen\, stichtingen\, initiatieven en ondernemers uit Appelscha e.o. zien wat zij allemaal te bieden hebben en wij dus ook. \nEr zijn verschillende sportieve activiteiten zijn en je kunt laten testen hoe fit je bent. Voor kinderen zijn er allerlei spelactiviteiten en een springkussen. \nKom gezellig langs op 1 juni\, we zien je graag op de Boerestreek!
URL:https://kunstwerf.com/evenement/bloeizonemarkt/
LOCATION:Boerestreek appelscha\, Boerestreek\, Appelscha\, Nederland
CATEGORIES:Alles rondom taal,Cultuurwerf,Filmwerf,Kunstwerfplaats,Muziekwerf
ATTACH;FMTTYPE=image/png:https://kunstwerf.com/wp-content/uploads/2024/03/Scherm­afbeelding-2024-05-23-om-14.12.45.png
END:VEVENT
END:VCALENDAR