BEGIN:VCALENDAR
VERSION:2.0
PRODID:-// - ECPv6.3.5//NONSGML v1.0//EN
CALSCALE:GREGORIAN
METHOD:PUBLISH
X-ORIGINAL-URL:https://kunstwerf.com
X-WR-CALDESC:Evenementen voor 
REFRESH-INTERVAL;VALUE=DURATION:PT1H
X-Robots-Tag:noindex
X-PUBLISHED-TTL:PT1H
BEGIN:VTIMEZONE
TZID:UTC
BEGIN:STANDARD
TZOFFSETFROM:+0000
TZOFFSETTO:+0000
TZNAME:UTC
DTSTART:20240101T000000
END:STANDARD
END:VTIMEZONE
BEGIN:VEVENT
DTSTART;TZID=UTC:20241130T200000
DTEND;TZID=UTC:20241130T220000
DTSTAMP:20260420T063422
CREATED:20241009T175146Z
LAST-MODIFIED:20241009T180247Z
UID:735-1732996800-1733004000@kunstwerf.com
SUMMARY:Film Banel & Adama
DESCRIPTION:Filmwerf vertoont op zaterdag 30 november de film Banel & Adama in De Miente in Oosterwolde. Inloop 19.30 uur\, start 20.00 uur. \nRamata-Toulaye Sy\, 2023\, 87 min \nHet jonge stel Banel en Adama wil weg uit hun Senegalese dorpje\, maar ontsnapping aan zowel de traditionele leefregels als de droge hitte blijkt vrijwel onmogelijk. De geliefden gaan buiten het dorp een onder de zand verdwenen huis uitgraven\, al worden ze gewaarschuwd dat de verdwenen huizen vervloekt zijn. De echte vloek blijkt de aanhoudende droogte\, veroorzaakt door de klimaatverandering. Magisch-realistische film met sprookjesachtige symboliek. Prachtig debuut van Sy. \nTickets zijn enkel via onderstaand boekingsformulier verkrijgbaar.
URL:https://kunstwerf.com/evenement/film-banel-adama/
LOCATION:De Miente\, Snellingerdijk 39\, Oosterwolde\, Friesland\, 8431 EJ\, Nederland
CATEGORIES:Filmwerf
ATTACH;FMTTYPE=image/jpeg:https://kunstwerf.com/wp-content/uploads/2024/10/Banel-Adama-scaled.jpg
ORGANIZER;CN="Filmwerf":MAILTO:filmwerf@kunstwerf.com
END:VEVENT
END:VCALENDAR