BEGIN:VCALENDAR
VERSION:2.0
PRODID:-// - ECPv6.3.5//NONSGML v1.0//EN
CALSCALE:GREGORIAN
METHOD:PUBLISH
X-ORIGINAL-URL:https://kunstwerf.com
X-WR-CALDESC:Evenementen voor 
REFRESH-INTERVAL;VALUE=DURATION:PT1H
X-Robots-Tag:noindex
X-PUBLISHED-TTL:PT1H
BEGIN:VTIMEZONE
TZID:UTC
BEGIN:STANDARD
TZOFFSETFROM:+0000
TZOFFSETTO:+0000
TZNAME:UTC
DTSTART:20250101T000000
END:STANDARD
END:VTIMEZONE
BEGIN:VEVENT
DTSTART;TZID=UTC:20250208T200000
DTEND;TZID=UTC:20250208T220000
DTSTAMP:20260419T210820
CREATED:20241217T085943Z
LAST-MODIFIED:20241217T090024Z
UID:815-1739044800-1739052000@kunstwerf.com
SUMMARY:Film De Jacht op Meral Ö
DESCRIPTION:Filmwerf draait op zaterdag 8 februari de film ‘De Jacht op Meral Ö’ in De Miente in Oosterwolde. Inloop 19.30 uur\, start 20.00 uur. \nStijn Bouma\, 2024\, 91 min \nEerste speelfilm over het toeslagenschandaal. Alleenstaande moeder Meral krijgt bericht dat ze een schuld heeft bij de Belastingdienst. Langzaam daalt bij haar het besef in dat er iets goed mis is. Ze belandt in een moeras van achterdocht\, venijn en machtsmisbruik. Niets is opgewassen tegen het systeem. De wanhoop en paniek zijn op realistische wijze voelbaar\, het leven van het gezin wordt tot in de kleinste details ontwricht. Pure bureaucratiehorror. \nTickets zijn enkel via onderstaand boekingsformulier verkrijgbaar.
URL:https://kunstwerf.com/evenement/film-de-jacht-op-meral-o/
LOCATION:De Miente\, Snellingerdijk 39\, Oosterwolde\, Friesland\, 8431 EJ\, Nederland
CATEGORIES:Filmwerf
ATTACH;FMTTYPE=image/jpeg:https://kunstwerf.com/wp-content/uploads/2024/12/De-Jacht-op-Meral-O.jpg
ORGANIZER;CN="Filmwerf":MAILTO:filmwerf@kunstwerf.com
END:VEVENT
END:VCALENDAR