BEGIN:VCALENDAR
VERSION:2.0
PRODID:-// - ECPv6.3.5//NONSGML v1.0//EN
CALSCALE:GREGORIAN
METHOD:PUBLISH
X-ORIGINAL-URL:https://kunstwerf.com
X-WR-CALDESC:Evenementen voor 
REFRESH-INTERVAL;VALUE=DURATION:PT1H
X-Robots-Tag:noindex
X-PUBLISHED-TTL:PT1H
BEGIN:VTIMEZONE
TZID:UTC
BEGIN:STANDARD
TZOFFSETFROM:+0000
TZOFFSETTO:+0000
TZNAME:UTC
DTSTART:20250101T000000
END:STANDARD
END:VTIMEZONE
BEGIN:VEVENT
DTSTART;TZID=UTC:20250124T100000
DTEND;TZID=UTC:20250124T120000
DTSTAMP:20260419T143945
CREATED:20241025T065130Z
LAST-MODIFIED:20250120T160509Z
UID:748-1737712800-1737720000@kunstwerf.com
SUMMARY:Lezing 'De Leipziger Schule' (GEANNULEERD)
DESCRIPTION:Onderstaande lezing is vanwege omstandigheden geannuleerd. Belangstellenden die al een kaartje hebben gekocht\, krijgen zo spoedig mogelijk persoonlijk bericht. Bij voorbaat dank voor uw begrip. \nCultuurwerf verzorgt op vrijdagmorgen 24 januari de lezing ‘De Leipziger Schule\, vier generaties fantastisch realisme’. De bijeenkomst vindt plaats bij In Kannen en Kruiken en begint om 10.00 uur. De lezing wordt gegeven door Blue van der Zwan. \nIn het Drents museum in Assen is tot en met 2 maart 2025 de expositie ‘Mirjam Völker\, Falsche Flagge’ te zien. Völker maakt deel uit van De Leipziger Schule. De Leipziger Schule is een groep kunstenaars\, opgeleid en gewerkt in Leipzig. Al vier generaties lang is de Leipziger Schule een soort tegenhanger van de Groningse Academie Minerva en de noordelijke realisten. \nAl is het werk van deze kunstenaars erg afwisselend\, toch heeft het ook veel overeenkomsten. Vaak kleurrijk en vol fantasie\, altijd figuratief! De laatste jaren geeft het Drents Museum regelmatig aandacht aan deze groep kunstenaars\, zoals Neo Rauch\, Rosa Loy en Mirjam Völker. Met deze lezing krijgen belangstellenden de kans om meer te weten te komen over deze interessante kunststroming. \nBlue van der Zwan is museumdocent bij het Drents Museum. Zij kan boeiend vertellen en haar publiek op een levendige manier meenemen en enthousiast maken voor de exposities in het Drents Museum. \nAanmelding is verplicht en kan enkel via onderstaand formulier. De kosten zijn € 13\,50 inclusief koffie/thee en koek.
URL:https://kunstwerf.com/evenement/lezing-de-leipziger-schule/
LOCATION:In Kannen en Kruiken\, Venekoterweg 52\, Oosterwolde\, Nederland
CATEGORIES:Cultuurwerf
ATTACH;FMTTYPE=image/jpeg:https://kunstwerf.com/wp-content/uploads/2024/10/Leipziger-Schule.jpg
END:VEVENT
END:VCALENDAR