BEGIN:VCALENDAR
VERSION:2.0
PRODID:-// - ECPv6.3.5//NONSGML v1.0//EN
CALSCALE:GREGORIAN
METHOD:PUBLISH
X-ORIGINAL-URL:https://kunstwerf.com
X-WR-CALDESC:Evenementen voor 
REFRESH-INTERVAL;VALUE=DURATION:PT1H
X-Robots-Tag:noindex
X-PUBLISHED-TTL:PT1H
BEGIN:VTIMEZONE
TZID:UTC
BEGIN:STANDARD
TZOFFSETFROM:+0000
TZOFFSETTO:+0000
TZNAME:UTC
DTSTART:20260101T000000
END:STANDARD
END:VTIMEZONE
BEGIN:VEVENT
DTSTART;TZID=UTC:20260925T100000
DTEND;TZID=UTC:20260925T120000
DTSTAMP:20260419T162431
CREATED:20260402T095607Z
LAST-MODIFIED:20260402T095653Z
UID:1253-1790330400-1790337600@kunstwerf.com
SUMMARY:Lezing over keramiek in de 17e en 18e eeuw
DESCRIPTION:Cultuurwerf presenteert op vrijdagochtend 25 september de lezing ‘De 17e en 18e eeuw in keramiek\, waar oost en west elkaar ontmoeten’. Hiervoor komt Karin Straathof\, kunsthistoricus werkzaam in Museum de Princessehof in Leeuwarden\, naar In Kannen en Kruiken in Oosterwolde. \nIn de lezing reist ze aan de hand van objecten van oost naar west en weer terug. Onderweg ontdekken de aanwezigen de dwarsverbanden in stijlen en vormen van China\, de bakermat van de keramiek tot in de Nederlandse klei. \nDe collectie van het Keramiekmuseum Princessehof dienst als basis voor haar verhaal. Deze collectie is opgebouwd uit stukken uit Azië en Europa door vele eeuwen heen\, gebaseerd op de verzamelingen van Nanne Ottema\, eerste directeur van het museum. Voor de lezing vormen voorbije tentoonstellingen als ‘Porseleinkoorts’ en ‘Made in Holland’ een inspiratie. \nDe lezing is van 10.00 – 12.00 uur. Een kaartje kost € 13\,50 (incl. koffie/thee en koek) en is enkel verkrijgbaar via onderstaand boekingsformulier.
URL:https://kunstwerf.com/evenement/lezing-over-keramiek-in-de-17e-en-18e-eeuw/
LOCATION:In Kannen en Kruiken\, Venekoterweg 52\, Oosterwolde\, Nederland
CATEGORIES:Cultuurwerf
ATTACH;FMTTYPE=image/png:https://kunstwerf.com/wp-content/uploads/2026/04/cid76fde8bf35fee358abfb79736406af2d.png
END:VEVENT
END:VCALENDAR