BEGIN:VCALENDAR
VERSION:2.0
PRODID:-// - ECPv6.3.5//NONSGML v1.0//EN
CALSCALE:GREGORIAN
METHOD:PUBLISH
X-ORIGINAL-URL:https://kunstwerf.com
X-WR-CALDESC:Evenementen voor 
REFRESH-INTERVAL;VALUE=DURATION:PT1H
X-Robots-Tag:noindex
X-PUBLISHED-TTL:PT1H
BEGIN:VTIMEZONE
TZID:UTC
BEGIN:STANDARD
TZOFFSETFROM:+0000
TZOFFSETTO:+0000
TZNAME:UTC
DTSTART:20240101T000000
END:STANDARD
END:VTIMEZONE
BEGIN:VEVENT
DTSTART;TZID=UTC:20241213T100000
DTEND;TZID=UTC:20241213T120000
DTSTAMP:20260420T080529
CREATED:20241009T173116Z
LAST-MODIFIED:20241009T173116Z
UID:724-1734084000-1734091200@kunstwerf.com
SUMMARY:Lezing Paris 1900
DESCRIPTION:Cultuurwerf verzorgt op vrijdagmorgen 13 december de lezing ‘Paris 1900’. De lezing wordt gegeven door Alberte Roué. \nDe moderne lichtstad Parijs\, door prefect Hausmann gerenoveerd\, is tijdens de ‘Belle Epoque’ het intellectuele en artistieke middelpunt van de wereld en de hoofdstad van de mode\, het uitgaansleven… en de prostitutie. De Eiffeltoren\, Montmartre en Pigalle\, de cancan in de Moulin Rouge zijn wereldberoemd. De Wereldtentoonstelling ‘Paris 1900’\, vitrine van Franse macht en prestige\, trekt 50 miljoen bezoekers. Maar alcoholisme\, syfilis en sociale conflicten richten ook ravages aan. \nDrs. Alberte Roué was docent Franse taal en cultuur aan de Rijksuniversiteit Groningen. Zij verzorgt al vele jaren cursussen voor de HOVO en het Institut Français. Vrijdag 13 december is ze te gast in Oosterwolde. \nOpgave is verplicht en kan enkel via onderstaand boekingsformulier. De kosten zijn € 13\,50 inclusief koffie/thee en koek. De lezing begint om 10.00 uur en vindt plaats bij In Kannen en Kruiken. \n\n\n\n 
URL:https://kunstwerf.com/evenement/lezing-paris-1900/
LOCATION:In Kannen en Kruiken\, Venekoterweg 52\, Oosterwolde\, Nederland
CATEGORIES:Cultuurwerf
ATTACH;FMTTYPE=image/jpeg:https://kunstwerf.com/wp-content/uploads/2024/10/Paris-1900-1.jpg
END:VEVENT
END:VCALENDAR