BEGIN:VCALENDAR
VERSION:2.0
PRODID:-// - ECPv6.3.5//NONSGML v1.0//EN
CALSCALE:GREGORIAN
METHOD:PUBLISH
X-ORIGINAL-URL:https://kunstwerf.com
X-WR-CALDESC:Evenementen voor 
REFRESH-INTERVAL;VALUE=DURATION:PT1H
X-Robots-Tag:noindex
X-PUBLISHED-TTL:PT1H
BEGIN:VTIMEZONE
TZID:UTC
BEGIN:STANDARD
TZOFFSETFROM:+0000
TZOFFSETTO:+0000
TZNAME:UTC
DTSTART:20240101T000000
END:STANDARD
END:VTIMEZONE
BEGIN:VEVENT
DTSTART;TZID=UTC:20241012T133000
DTEND;TZID=UTC:20241012T163000
DTSTAMP:20260420T010846
CREATED:20240829T185127Z
LAST-MODIFIED:20240829T185156Z
UID:664-1728739800-1728750600@kunstwerf.com
SUMMARY:Workshop stop-motion Oldeberkoop
DESCRIPTION:In het kader van de themamaand ‘Eigen Streken’ wordt de workshop stop-motion ‘Hier kom ik weg’ aangeboden. Deze workshop is bedoeld voor kinderen van groep 6\, 7 en 8. Onder leiding van Menno Boersma gaan ze een filmpje maken. \nZaterdag 12 oktober van 13.30 – 16.30 uur bij de Schrieversronte in Oldeberkoop. \nMaximaal 12 kinderen per groep\, dus geef je snel op. Dat kan alleen via onderstaand reserveringsformulier. De kosten bedragen € 3\,-.
URL:https://kunstwerf.com/evenement/workshop-stop-motion-oldeberkoop/
LOCATION:Schrieversronte\, Willinge Prinsstraat 10\, Oldeberkoop\, Friesland\, 8421 PE\, Nederland
CATEGORIES:Kunstwerfplaats
ATTACH;FMTTYPE=image/png:https://kunstwerf.com/wp-content/uploads/2024/08/Stop-motion.png
ORGANIZER;CN="Kunstwerfplaats":MAILTO:kunstwerfplaats@kunstwerf.com
END:VEVENT
END:VCALENDAR