BEGIN:VCALENDAR
VERSION:2.0
PRODID:-// - ECPv6.3.5//NONSGML v1.0//EN
CALSCALE:GREGORIAN
METHOD:PUBLISH
X-ORIGINAL-URL:https://kunstwerf.com
X-WR-CALDESC:Evenementen voor 
REFRESH-INTERVAL;VALUE=DURATION:PT1H
X-Robots-Tag:noindex
X-PUBLISHED-TTL:PT1H
BEGIN:VTIMEZONE
TZID:UTC
BEGIN:STANDARD
TZOFFSETFROM:+0000
TZOFFSETTO:+0000
TZNAME:UTC
DTSTART:20250101T000000
END:STANDARD
END:VTIMEZONE
BEGIN:VEVENT
DTSTART;TZID=UTC:20251130T150000
DTEND;TZID=UTC:20251130T170000
DTSTAMP:20260420T071322
CREATED:20250819T095741Z
LAST-MODIFIED:20251129T123107Z
UID:1036-1764514800-1764522000@kunstwerf.com
SUMMARY:Optreden Noord-Nederlands Saxofoonkwartet (UITVERKOCHT)
DESCRIPTION:Op uitnodiging van de werkgroep Muziekwerf geeft het Noord-Nederlands Saxofoonkwartet op zondagmiddag 30 november een optreden in de Dorpskerk van Oosterwolde. \nHet Noord Nederlands Saxofoonkwartet bestaat uit vier bevlogen musici met een gedeelde passie voor kamermuziek. Het doel van het NNSK is om toegankelijke klassieke concerten ten gehore te brengen voor een breed publiek met hier en daar uitstapjes naar andere muziekgenres. \nHet kwartet presenteert deze zondagmiddag een afwisselend programma vol lyriek\, energie en kleur. Van de verfijnde romantiek van César Franck en de elegante dansen uit Griegs Holberg Suite\, tot de vurige klanken van Astor Piazzolla en de jazzy flair van Gershwin. \nVier saxofoons brengen de muziek tot leven in een breed palet aan stijlen. \nsopraansax: Sietske Trinks\naltsax: Harmke Seinen\ntenorsax: Jildou Renema\nbaritonsax: Lotte de Bruin \nKaarten voor dit optreden zijn niet meer verkrijgbaar. Eventueel kun je je via muziekwerf@kunstwerf.com op de reservelijst laten plaatsen. Vergeet daarbij dan niet je telefoonnummer te vermelden. \n  \n 
URL:https://kunstwerf.com/evenement/optreden-noord-nederlands-saxofoonkwartet/
LOCATION:Dorpskerk Oosterwolde\, Brink 26\, Oosterwolde\, Friesland\, 8431 LD\, Netherlands
CATEGORIES:Muziekwerf
ATTACH;FMTTYPE=image/png:https://kunstwerf.com/wp-content/uploads/2025/08/NNSK-bijgesneden-scaled.png
ORGANIZER;CN="Muziekwerf":MAILTO:muziekwerf@kunstwerf.com
END:VEVENT
END:VCALENDAR