BEGIN:VCALENDAR
VERSION:2.0
PRODID:-// - ECPv6.3.5//NONSGML v1.0//EN
CALSCALE:GREGORIAN
METHOD:PUBLISH
X-ORIGINAL-URL:https://kunstwerf.com
X-WR-CALDESC:Evenementen voor 
REFRESH-INTERVAL;VALUE=DURATION:PT1H
X-Robots-Tag:noindex
X-PUBLISHED-TTL:PT1H
BEGIN:VTIMEZONE
TZID:UTC
BEGIN:STANDARD
TZOFFSETFROM:+0000
TZOFFSETTO:+0000
TZNAME:UTC
DTSTART:20260101T000000
END:STANDARD
END:VTIMEZONE
BEGIN:VEVENT
DTSTART;TZID=UTC:20260227T200000
DTEND;TZID=UTC:20260227T223000
DTSTAMP:20260420T004816
CREATED:20251012T181746Z
LAST-MODIFIED:20251202T103032Z
UID:1062-1772222400-1772231400@kunstwerf.com
SUMMARY:Optreden The Lasses
DESCRIPTION:Muziekwerf is erin geslaagd om The Lasses naar Oosterwolde te halen. Het optreden vindt plaats op vrijdagavond 27 februari in Hotel De Zon Anno 1870. \nSophie Janna en Margot Merah brengen traditionele Ierse\, Schotse en Amerikaanse folk\, en staan bekend om hun fraaie zangharmonieën. ‘Wat zingen zij superieur’\, schreef de Volkskrant over folkduo The Lasses. Hun tweestemmigheid is uniek en met hun ontspannen podiumpresentatie weten ze elk publiek voor zich te winnen. \nDe afgelopen jaren reisden The Lasses de hele wereld over. Ze zijn een veelgevraagd duo in de internationale folkscene: ze speelden in Schotland\, Engeland en Amerika\, maar ook in Ierland\, Canada\, Japan en verschillende landen op het Europese vasteland. In Nederland spelen The Lasses voornamelijk in het theater\, maar ook in oude kerkjes en op intieme luisterpodia en festivals. En nu dus in de prachtige historische zaal van Hotel de Zon. \nVerhalende ballads worden afgewisseld met opzwepende nummers waar de intensiteit vanaf spat. Traditionele Schotse of Ierse liedjes worden aangevuld met eigen nummers in dezelfde stijl en begeleid op gitaar\, bodhrán (Ierse drum) ukulele\, shrutibox en mondharmonica. Centraal bij The Lasses staat altijd de samenzang waarbij de stemmen elkaar perfect aanvullen en versterken. Het duo bestaat sinds 2011 en maakte inmiddels vijf albums. Het laatste\, ‘Near Far’\, verscheen in 2023. \n“Wat zingen zij superieur” – de Volkskrant \n“Hemelse samenzang” – AltCountry \n“Een schitterende ode aan de menselijke stem” – Blues ’n Roots \nHet optreden in Hotel de Zon begint om 20.00 uur. Kaarten kosten € 15\,- en zijn uitsluitend verkrijgbaar via onderstaand boekingsformulier. \n\n\n\n  \n 
URL:https://kunstwerf.com/evenement/optreden-the-lasses/
LOCATION:Hotel De Zon Anno 1870\, Stationsstraat 1\, Oosterwolde\, Friesland\, 8431 ET\, Netherlands
CATEGORIES:Muziekwerf
ATTACH;FMTTYPE=image/jpeg:https://kunstwerf.com/wp-content/uploads/2025/10/TheLasses-geposeerd_2024_RoosmarijnBroersen-2-van-8.jpeg
ORGANIZER;CN="Muziekwerf":MAILTO:muziekwerf@kunstwerf.com
END:VEVENT
END:VCALENDAR