BEGIN:VCALENDAR
VERSION:2.0
PRODID:-// - ECPv6.3.5//NONSGML v1.0//EN
CALSCALE:GREGORIAN
METHOD:PUBLISH
X-ORIGINAL-URL:https://kunstwerf.com
X-WR-CALDESC:Evenementen voor 
REFRESH-INTERVAL;VALUE=DURATION:PT1H
X-Robots-Tag:noindex
X-PUBLISHED-TTL:PT1H
BEGIN:VTIMEZONE
TZID:UTC
BEGIN:STANDARD
TZOFFSETFROM:+0000
TZOFFSETTO:+0000
TZNAME:UTC
DTSTART:20260101T000000
END:STANDARD
END:VTIMEZONE
BEGIN:VEVENT
DTSTART;TZID=UTC:20260412T150000
DTEND;TZID=UTC:20260412T170000
DTSTAMP:20260419T230044
CREATED:20260202T153646Z
LAST-MODIFIED:20260202T153809Z
UID:1216-1776006000-1776013200@kunstwerf.com
SUMMARY:Optreden Café Chantant
DESCRIPTION:Muziekwerf haalt Café Chantant naar Oosterwolde. Het muzikale gezelschap geeft op zondagmiddag 12 april een optreden in Hotel de Zon anno 1870. Er wordt een ode gebracht aan o.a. Ramses Shaffy en Liesbeth List. \nMet dit prachtige muzikale ensemble wanen de toeschouwers zich in andere tijden. Het publiek wordt ondergedompeld in een warm bad van de kleinkunstmuziek. Naast Ramses en Liesbeth hebben artiesten als Robert Long en Rob de Nijs een plek in het programma. Denk aan nummers als ‘Laat me’\, ‘Pastorale’\, ‘We zullen doorgaan’ en ‘Jan Klaassen’. \nCafé Chantant brengt een show met een lach en een traan en zorgt voor een feest van herkenning. Een optreden dat je volgens de werkgroep Muziekwerf simpelweg niet mag missen. \nDe zaal gaat om 14.30 uur open\, het optreden begint om 15.00 uur. Kaarten kosten € 20\,- en zijn uitsluitend verkrijgbaar via onderstaand boekingsformulier. \n\n\n\n  \n  \n 
URL:https://kunstwerf.com/evenement/optreden-cafe-chantant/
LOCATION:Hotel De Zon Anno 1870\, Stationsstraat 1\, Oosterwolde\, Friesland\, 8431 ET\, Netherlands
CATEGORIES:Muziekwerf
ATTACH;FMTTYPE=image/jpeg:https://kunstwerf.com/wp-content/uploads/2026/02/Chantant_print-3-scaled.jpg
ORGANIZER;CN="Muziekwerf":MAILTO:muziekwerf@kunstwerf.com
END:VEVENT
END:VCALENDAR