BEGIN:VCALENDAR
VERSION:2.0
PRODID:-// - ECPv6.3.5//NONSGML v1.0//EN
CALSCALE:GREGORIAN
METHOD:PUBLISH
X-ORIGINAL-URL:https://kunstwerf.com
X-WR-CALDESC:Evenementen voor 
REFRESH-INTERVAL;VALUE=DURATION:PT1H
X-Robots-Tag:noindex
X-PUBLISHED-TTL:PT1H
BEGIN:VTIMEZONE
TZID:UTC
BEGIN:STANDARD
TZOFFSETFROM:+0000
TZOFFSETTO:+0000
TZNAME:UTC
DTSTART:20260101T000000
END:STANDARD
END:VTIMEZONE
BEGIN:VEVENT
DTSTART;TZID=UTC:20260614T150000
DTEND;TZID=UTC:20260614T170000
DTSTAMP:20260420T022451
CREATED:20260414T072857Z
LAST-MODIFIED:20260414T073036Z
UID:1257-1781449200-1781456400@kunstwerf.com
SUMMARY:Tuinconcert Les Copains
DESCRIPTION:Muziekwerf presenteert op zondagmiddag 14 juni in Elsloo een zomers concert van Les Copains. Het Nijmeegse trio brengt vanaf 15.00 uur een programma van Franse chansons in de tuin aan de Hoofdweg 6 (Atelier Smitse Baksels). \n Les Copains bestaat uit drie ervaren muzikanten: Paul Drijvers (zang en gitaar)\, Henk Kuik (accordeon\, gitaar\, ukelele en zang) en Philip Woudenberg (contrabas en zang). Het repertoire omvat zowel tijdloze klassiekers als moderne ‘parels’\, die ze op een aanstekelijke wijze brengen. \nDe groep is in 2011 ontstaan. De eerste schreden werden gezet op het podium van het Café Chantant van de Alliance Française Nimègue. In 2016 verscheen de cd ’Les Beaux Débuts’. Dit muzikale gezelschap laat luisteraars kennis maken met de wereld van het chanson via klassiekers van onder anderen Jacques Brel en Charles Aznavour\, maar ook meer eigentijds repertoire van bijvoorbeeld Zaz en Thomas Dutronc zal klinken. Het wordt kortom een middag met nostalgie en nieuwe kennismakingen. \nDe entree bedraagt 15 euro en kaarten zijn uitsluitend vooraf te bestellen via onderstaand boekingsformulier. \nPersfoto: Berry de Reus \n\n\n\n 
URL:https://kunstwerf.com/evenement/tuinconcert-les-copains/
LOCATION:Tuin Elsloo\, Hoofdweg 6\, Elsloo\, Friesland\, 8424 PL\, Netherlands
CATEGORIES:Muziekwerf
ATTACH;FMTTYPE=image/png:https://kunstwerf.com/wp-content/uploads/2026/04/lescopains-front-high.png
ORGANIZER;CN="Muziekwerf":MAILTO:muziekwerf@kunstwerf.com
END:VEVENT
END:VCALENDAR