BEGIN:VCALENDAR
VERSION:2.0
PRODID:-// - ECPv6.3.5//NONSGML v1.0//EN
CALSCALE:GREGORIAN
METHOD:PUBLISH
X-ORIGINAL-URL:https://kunstwerf.com
X-WR-CALDESC:Evenementen voor 
REFRESH-INTERVAL;VALUE=DURATION:PT1H
X-Robots-Tag:noindex
X-PUBLISHED-TTL:PT1H
BEGIN:VTIMEZONE
TZID:UTC
BEGIN:STANDARD
TZOFFSETFROM:+0000
TZOFFSETTO:+0000
TZNAME:UTC
DTSTART:20240101T000000
END:STANDARD
END:VTIMEZONE
BEGIN:VEVENT
DTSTART;TZID=UTC:20260117T200000
DTEND;TZID=UTC:20260117T223000
DTSTAMP:20260419T214404
CREATED:20251205T090513Z
LAST-MODIFIED:20251205T090513Z
UID:1170-1768680000-1768689000@kunstwerf.com
SUMMARY:Muziektheatervoorstelling ‘En ik dan?’ door Pier21
DESCRIPTION:Het Grietenijhûs is er samen met Stichting Kunstwerf in geslaagd om de professionele muziektheatervoorstelling ‘En ik dan?’ van Pier21 naar het dorpshuis in Makkinga te halen. Deze Nederlandstalige productie wordt op zaterdag 17 januari opgevoerd. \n‘En ik dan?’ is een aangrijpend en muzikaal verhaal over mantelzorg. De zoektocht naar balans wanneer zorgen voor een ander ten koste dreigt te gaan van jezelf. Vanwege dit onderwerp is mantelzorgconsulente Lyan Bergsma van de gemeente Ooststellingwerf ook bij de voorstelling aanwezig. Na afloop is er de mogelijkheid om haar te spreken en ook om met anderen ervaringen uit te wisselen. \nHet stuk is geïnspireerd op het persoonlijke verhaal van zangeres en actrice Hiske Oosterwijk. Hierdoor wordt de thematiek invoelbaar en urgent. De nummers van Hiske vormen de emotionele ruggengraat van de voorstelling. Swingend\, jazzy en soms intieme songs. \nDe voorstelling was tot en met eind 2025 al in het Fries te zien. Vanwege het succes volgt nu een speciale Nederlandstalige tournee\, waaronder de voorstelling in Makkinga. De zaal van het Grietenijhûs biedt plek aan 120 bezoekers. Kaarten kosten € 25\,50 (incl. koffie/thee met cake) en zijn vanaf heden verkrijgbaar via www.pier21.nl.
URL:https://kunstwerf.com/evenement/muziektheatervoorstelling-en-ik-dan-door-pier21/
LOCATION:Dorpshuis Makkinga\, Oosterhuisweg 3\, Makkinga\, Friesland\, 8432 TG\, Netherlands
CATEGORIES:Samenwerking alle werkgroepen
ATTACH;FMTTYPE=image/jpeg:https://kunstwerf.com/wp-content/uploads/2025/09/pier21-en-ik-dan-scaled.jpg
ORGANIZER;CN="Door alle werkgroepen":MAILTO:art@kunstwerf.com
END:VEVENT
BEGIN:VEVENT
DTSTART;TZID=UTC:20241023T200000
DTEND;TZID=UTC:20241023T220000
DTSTAMP:20260419T214404
CREATED:20240716T142403Z
LAST-MODIFIED:20240726T091827Z
UID:588-1729713600-1729720800@kunstwerf.com
SUMMARY:Lezing ‘Het eigene van de Stellingwerven’
DESCRIPTION:De themamaand oktober heeft als motto Eigen streken. Daar hoort ook bij dat we ons een beetje verdiepen in de geschiedenis van de Stellingwerven. Waar komt het eigene van deze streek vandaan? Wi’j bin gien echte Friezen\, mar ok gien Drenthen meer\, zingen we in het Stellingwerver volkslied. Hoe zit dat dan? Hoe komt dat zo? \nWe zijn heel blij dat we dr. Henk Bloemhoff bereid hebben gevonden om dat uit te leggen. Henk is niet alleen de taalspecialist van deze streek\, maar hij publiceerde ook veel over de identiteit en de geschiedenis van de Stellingwerven (zie voor een publicatieoverzicht https://www.henkbloemhoff.nl/publikaosies/). \nDe lezing\, getiteld ‘Het eigene van de Stellingwerven. Waar komt dat vandaan?’ vindt plaats op woensdag 23 oktober\, om 20.00 uur in De Hoolten Klinte\, Bosberg 1 in Appelscha. Inloop vanaf 19.30 uur. Toegangsprijs: €10\,00\, incl. 1 consumptie. Reserveren kan via onderstaand invulformulier.
URL:https://kunstwerf.com/evenement/lezing-het-eigene-van-de-stellingwerven/
LOCATION:De Hoolten Klinte\, Bosberg 1\, Appelscha\, Nederland
CATEGORIES:Samenwerking alle werkgroepen
ATTACH;FMTTYPE=image/jpeg:https://kunstwerf.com/wp-content/uploads/2024/07/foto-Henk_2-scaled.jpg
ORGANIZER;CN="Door alle werkgroepen":MAILTO:art@kunstwerf.com
END:VEVENT
BEGIN:VEVENT
DTSTART;TZID=UTC:20241018T193000
DTEND;TZID=UTC:20241018T220000
DTSTAMP:20260419T214404
CREATED:20240912T114833Z
LAST-MODIFIED:20241010T082311Z
UID:695-1729279800-1729288800@kunstwerf.com
SUMMARY:Presentatievond 'Eigen Streken in words & rhythm'
DESCRIPTION:Resultaten van workshops gegeven op het Stellingwerf College. \nGeschreven en gepresenteerd door tweedejaars leerlingen van het Stellingwerf College \nDe avond wordt opgeluisterd met muziek van o.a. de slagwerkgroep van Henri de Boer.
URL:https://kunstwerf.com/evenement/presentatievond-eigen-streken-in-words-rhythm/
LOCATION:Stellingwerf College\, Quadoelenweg 29\, Oosterwolde\, Friesland\, 8431 LN\, Nederland
CATEGORIES:Samenwerking alle werkgroepen
ATTACH;FMTTYPE=image/png:https://kunstwerf.com/wp-content/uploads/2024/09/Naamloos-24-e1728548565996.png
ORGANIZER;CN="Door alle werkgroepen":MAILTO:art@kunstwerf.com
END:VEVENT
END:VCALENDAR